BEGIN:VCALENDAR
VERSION:2.0
PRODID:-//Library Market//iCal Export//EN
BEGIN:VEVENT
SUMMARY:All About Apples
UID:4649
DTSTAMP:20260420T142600Z
DTSTART:20260929T153000Z
DTEND:20260929T163000Z
LOCATION:North Smithfield Library, 20 Main St, Slatersville, RI 02876, Uni
 ted States
ROOM: Community Room
DESCRIPTION:All About Apples will entail a storytime, followed by making y
 our own apple pie filling cups and enjoying some local apple cider! 
URL:https://northsmithfield.librarycalendar.com/event/all-about-apples-464
 9
END:VEVENT
END:VCALENDAR
